BEGIN:VCALENDAR
VERSION:2.0
PRODID:-//eventon.com NONSGML v1.0//EN
CALSCALE:GREGORIAN
METHOD:PUBLISH
BEGIN:VEVENT
UID:69eb8e8ee4a5b
DTSTAMP:20260424T153854Z
DTSTART:20240816T073000Z
DTEND:20240816T130000Z
LOCATION:
SUMMARY:Globe's Weekend Brunch
DESCRIPTION:Prague's Best All American Brunch! Lots of favorites to choose 
 from Eggs Benedict\,  Omelettes\,  Pancakes\,  Waffles\,  Breakfast Burrito
 \,  Mimosas\,  Fresh juice\,  and much much more Call to book a table: +420
  224 934 203\nhttps://globebookstore.cz/events/daily-brunch/
URL:https://globebookstore.cz/events/daily-brunch/
END:VEVENT
END:VCALENDAR