BEGIN:VCALENDAR
VERSION:2.0
PRODID:-//eventon.com NONSGML v1.0//EN
CALSCALE:GREGORIAN
METHOD:PUBLISH
BEGIN:VEVENT
UID:69eba18130cd0
DTSTAMP:20260424T165945Z
DTSTART:20260423T170000Z
DTEND:20260423T200000Z
LOCATION:
SUMMARY:Bingo at Globe
DESCRIPTION:🌟 Globe Bookstore Bingo Night Alert! 🌟 Join us for Globe 
 Bingo Night\,  It's completely free to play\,  with fun games\,  awesome p
 rizes up for grabs\,  and 99 CZK cocktails all night long.\nhttps://globeb
 ookstore.cz/events/bingo-at-globe/
URL:https://globebookstore.cz/events/bingo-at-globe/
END:VEVENT
END:VCALENDAR