BEGIN:VCALENDAR
VERSION:2.0
PRODID:-//eventon.com NONSGML v1.0//EN
CALSCALE:GREGORIAN
METHOD:PUBLISH
BEGIN:VEVENT
UID:69eb8f3e617eb
DTSTAMP:20260424T154150Z
DTSTART:20260428T170000Z
DTEND:20260428T200000Z
LOCATION:
SUMMARY:Back to the 00's Big Quiz
DESCRIPTION:Grab your flip phones\,  iPods and Tamagotchis and join us for 
 a BIG Trivia Quiz all about the 2000s – movies\,  music\,  pop culture an
 d more.🎤 With Quiz Master Ioanna Bring your team\,  battle it out for br
 agging rights and prizes\,  and relive the decade of Furbies and polyphonic
  ringtones.\nhttps://globebookstore.cz/events/back-to-the-00s-big-quiz-2/
URL:https://globebookstore.cz/events/back-to-the-00s-big-quiz-2/
END:VEVENT
END:VCALENDAR