BEGIN:VCALENDAR
VERSION:2.0
PRODID:-//eventon.com NONSGML v1.0//EN
CALSCALE:GREGORIAN
METHOD:PUBLISH
BEGIN:VEVENT
UID:69eb8e8f2f355
DTSTAMP:20260424T153855Z
DTSTART:20240824T170000Z
DTEND:20240824T214500Z
LOCATION:
SUMMARY:Prague Meet Up
DESCRIPTION:Excited to get to know fellow expats or locals? Come to the Glo
 be every Saturday night at 7:00 pm to experience a unique multicultural atm
 osphere\,  have a chat over a drink and expand your network.\nhttps://globe
 bookstore.cz/events/prague-meet-up/
URL:https://globebookstore.cz/events/prague-meet-up/
END:VEVENT
END:VCALENDAR