BEGIN:VCALENDAR
VERSION:2.0
PRODID:-//eventon.com NONSGML v1.0//EN
CALSCALE:GREGORIAN
METHOD:PUBLISH
BEGIN:VEVENT
UID:69eb8c6bf1014
DTSTAMP:20260424T152947Z
DTSTART:20240819T170000Z
DTEND:20240819T203000Z
LOCATION:
SUMMARY:Writing Group
DESCRIPTION:All types of writers are welcomed at Globe’s weekly writing g
 roup; whether you are a screenwriter\,  novelist\,  poet\,  journalist or a
 nything in between\,  the Globe Writing Group offers an outlet to any write
 r living and creating in Prague! Through the use of critique and work-shopp
 ing\,  we hope to create consistent[..]\nhttps://globebookstore.cz/events/w
 riting-group/
URL:https://globebookstore.cz/events/writing-group/
END:VEVENT
END:VCALENDAR